BEGIN:VCALENDAR
VERSION:2.0
PRODID:-//wp-events-plugin.com//7.2.3.1//EN
BEGIN:VEVENT
UID:608@dogwizard.com
DTSTART;TZID=America/Chicago:20260430T184500
DTEND;TZID=America/Chicago:20260430T194500
DTSTAMP:20260316T044352Z
URL:https://dogwizard.com/events/dog-club-agility-night-6/
SUMMARY:DOG Club Agility Night
DESCRIPTION:
LOCATION:D.O.G. Obedience Group - Blue Springs\, 3707 SW US HWY 40\, Blue S
 prings\, MO\, 64015\, United States
X-APPLE-STRUCTURED-LOCATION;VALUE=URI;X-ADDRESS=3707 SW US HWY 40\, Blue Sp
 rings\, MO\, 64015\, United States;X-APPLE-RADIUS=100;X-TITLE=D.O.G. Obedi
 ence Group - Blue Springs:geo:0,0
END:VEVENT
BEGIN:VTIMEZONE
TZID:America/Chicago
X-LIC-LOCATION:America/Chicago
BEGIN:DAYLIGHT
DTSTART:20260308T030000
TZOFFSETFROM:-0600
TZOFFSETTO:-0500
TZNAME:CDT
END:DAYLIGHT
END:VTIMEZONE
END:VCALENDAR