BEGIN:VCALENDAR
VERSION:2.0
PRODID:-//wp-events-plugin.com//7.2.3.1//EN
BEGIN:VEVENT
UID:606@dogwizard.com
DTSTART;TZID=America/Chicago:20260425T090000
DTEND;TZID=America/Chicago:20260425T100000
DTSTAMP:20260316T044027Z
URL:https://dogwizard.com/events/dog-club-group-walk-7/
SUMMARY:DOG Club Group Walk
DESCRIPTION:
LOCATION:Bass Pro-Waterfall Park\, 4501 S Bass Pro Dr\, Independence\, MO\,
  64055\, United States
X-APPLE-STRUCTURED-LOCATION;VALUE=URI;X-ADDRESS=4501 S Bass Pro Dr\, Indepe
 ndence\, MO\, 64055\, United States;X-APPLE-RADIUS=100;X-TITLE=Bass Pro-Wa
 terfall Park:geo:0,0
END:VEVENT
BEGIN:VTIMEZONE
TZID:America/Chicago
X-LIC-LOCATION:America/Chicago
BEGIN:DAYLIGHT
DTSTART:20260308T030000
TZOFFSETFROM:-0600
TZOFFSETTO:-0500
TZNAME:CDT
END:DAYLIGHT
END:VTIMEZONE
END:VCALENDAR