BEGIN:VCALENDAR
VERSION:2.0
PRODID:-//wp-events-plugin.com//7.2.3.1//EN
BEGIN:VEVENT
UID:611@dogwizard.com
DTSTART;TZID=America/Chicago:20260516T090000
DTEND;TZID=America/Chicago:20260516T100000
DTSTAMP:20260416T042709Z
URL:https://dogwizard.com/events/dog-club-group-walk-8/
SUMMARY:DOG Club Group Walk
DESCRIPTION:
LOCATION:Little Blue Trace Trail M78 Trailhead\, 24100 Rt-78 W\, Independen
 ce\, Mo\, 64056\, United States
GEO:39.099869;-94.303883
X-APPLE-STRUCTURED-LOCATION;VALUE=URI;X-ADDRESS=24100 Rt-78 W\, Independenc
 e\, Mo\, 64056\, United States;X-APPLE-RADIUS=100;X-TITLE=Little Blue Trac
 e Trail M78 Trailhead:geo:39.099869,-94.303883
END:VEVENT
BEGIN:VTIMEZONE
TZID:America/Chicago
X-LIC-LOCATION:America/Chicago
BEGIN:DAYLIGHT
DTSTART:20260308T030000
TZOFFSETFROM:-0600
TZOFFSETTO:-0500
TZNAME:CDT
END:DAYLIGHT
END:VTIMEZONE
END:VCALENDAR