BEGIN:VCALENDAR
VERSION:2.0
PRODID:-//wp-events-plugin.com//7.2.3.1//EN
BEGIN:VEVENT
UID:615@dogwizard.com
DTSTART;TZID=America/Chicago:20260529T184500
DTEND;TZID=America/Chicago:20260529T194500
DTSTAMP:20260416T043436Z
URL:https://dogwizard.com/events/dog-club-nosey-ninja-4/
SUMMARY:DOG Club Nosey Ninja
DESCRIPTION:
END:VEVENT
BEGIN:VTIMEZONE
TZID:America/Chicago
X-LIC-LOCATION:America/Chicago
BEGIN:DAYLIGHT
DTSTART:20260308T030000
TZOFFSETFROM:-0600
TZOFFSETTO:-0500
TZNAME:CDT
END:DAYLIGHT
END:VTIMEZONE
END:VCALENDAR