BEGIN:VCALENDAR
VERSION:2.0
PRODID:-//wp-events-plugin.com//7.2.3.1//EN
BEGIN:VEVENT
UID:613@dogwizard.com
DTSTART;TZID=America/Chicago:20260520T184500
DTEND;TZID=America/Chicago:20260520T194500
DTSTAMP:20260416T043205Z
URL:https://dogwizard.com/events/dog-club-scavenger-hunt-6/
SUMMARY:DOG Club Scavenger Hunt
DESCRIPTION:
LOCATION:Bass Pro\, 18001 Bass Pro Drive\, Independence\, MO\, 18001 Bass P
 ro Drive\, Independence\, MO\, 64055\, United States
GEO:39.040031;-94.370485
X-APPLE-STRUCTURED-LOCATION;VALUE=URI;X-ADDRESS=18001 Bass Pro Drive\, Inde
 pendence\, MO\, 64055\, United States;X-APPLE-RADIUS=100;X-TITLE=Bass Pro\
 , 18001 Bass Pro Drive\, Independence\, MO:geo:39.040031,-94.370485
END:VEVENT
BEGIN:VTIMEZONE
TZID:America/Chicago
X-LIC-LOCATION:America/Chicago
BEGIN:DAYLIGHT
DTSTART:20260308T030000
TZOFFSETFROM:-0600
TZOFFSETTO:-0500
TZNAME:CDT
END:DAYLIGHT
END:VTIMEZONE
END:VCALENDAR